BEGIN:VCALENDAR
VERSION:2.0
PRODID:-//kirche-schatthausen.eki-musterhausen.de//NONSGML kigkonsult.se iCalcreator 2.41.92//
CALSCALE:GREGORIAN
METHOD:PUBLISH
UID:30303334-6333-4338-b265-656330323566
X-WR-TIMEZONE:Europe/Berlin
X-LIC-LOCATION:Europe/Berlin
BEGIN:VTIMEZONE
TZID:Europe/Berlin
BEGIN:DAYLIGHT
TZOFFSETFROM:+0100
TZOFFSETTO:+0200
TZNAME:CEST
DTSTART:19700329T020000
RRULE:FREQ=YEARLY;BYDAY=-1SU;BYMONTH=3
END:DAYLIGHT
BEGIN:STANDARD
TZOFFSETFROM:+0200
TZOFFSETTO:+0100
TZNAME:CET
DTSTART:19701025T030000
RRULE:FREQ=YEARLY;BYDAY=-1SU;BYMONTH=10
END:STANDARD
END:VTIMEZONE
BEGIN:VEVENT
UID:38383637-6431-4933-b735-346634633136
DTSTAMP:20260422T001956Z
DESCRIPTION:mit Pfarrerin Angelika Haffner\n \n Veranstaltungsort:\n Evange
 lische Kirche Schatthausen\n Kirchstr.15\n 69168 Wiesloch-Schatthausen\n 
 \n Veranstalter:\n Schatthausen\, Evangelische Pfarrgemeinde\n Kirchstraße
  15\n 69168 Wiesloch-Schatthausen\n Telefon: 06222-70644\n Telefax: 06222-
 70280\n http://www.kirche-schatthausen.de
DTSTART;TZID=Europe/Berlin:20260712T100000
DTEND;TZID=Europe/Berlin:20260712T110000
LOCATION:Evangelische Kirche Schatthausen\n - Kirchstr.15\n - 69168 Wiesloc
 h-Schatthausen
SUMMARY:Gottesdienst
X-ALT-DESC;FMTTYPE=text/html:mit Pfarrerin Angelika Haffner<br /><br />Vera
 nstaltungsort: <br />Evangelische Kirche Schatthausen<br />Kirchstr.15<br 
 />69168 Wiesloch-Schatthausen<br /><br />Veranstalter: <br />Schatthausen\
 , Evangelische Pfarrgemeinde<br />Kirchstraße 15 <br />69168 Wiesloch-Scha
 tthausen<br />Telefon: 06222-70644 <br />Telefax: 06222-70280<br />http://
 www.kirche-schatthausen.de
END:VEVENT
END:VCALENDAR
