BEGIN:VCALENDAR
VERSION:2.0
PRODID:-//kirche-schatthausen.eki-musterhausen.de//NONSGML kigkonsult.se iCalcreator 2.41.92//
CALSCALE:GREGORIAN
METHOD:PUBLISH
UID:31633130-3463-4532-b132-666134386162
X-WR-TIMEZONE:Europe/Berlin
X-LIC-LOCATION:Europe/Berlin
BEGIN:VTIMEZONE
TZID:Europe/Berlin
BEGIN:DAYLIGHT
TZOFFSETFROM:+0100
TZOFFSETTO:+0200
TZNAME:CEST
DTSTART:19700329T020000
RRULE:FREQ=YEARLY;BYDAY=-1SU;BYMONTH=3
END:DAYLIGHT
BEGIN:STANDARD
TZOFFSETFROM:+0200
TZOFFSETTO:+0100
TZNAME:CET
DTSTART:19701025T030000
RRULE:FREQ=YEARLY;BYDAY=-1SU;BYMONTH=10
END:STANDARD
END:VTIMEZONE
BEGIN:VEVENT
UID:39366134-3132-4561-b730-323230313635
DTSTAMP:20260422T003203Z
DESCRIPTION:mit Pfarrer i.R. Klaus Zimmermann\n \n Veranstaltungsort:\n Eva
 ngelische Kirche Schatthausen\n Kirchstr.15\n 69168 Wiesloch-Schatthausen
 \n \n Veranstalter:\n Schatthausen\, Evangelische Pfarrgemeinde\n Kirchstr
 aße 15\n 69168 Wiesloch-Schatthausen\n Telefon: 06222-70644\n Telefax: 062
 22-70280\n http://www.kirche-schatthausen.de
DTSTART;TZID=Europe/Berlin:20260705T100000
DTEND;TZID=Europe/Berlin:20260705T110000
LOCATION:Evangelische Kirche Schatthausen\n - Kirchstr.15\n - 69168 Wiesloc
 h-Schatthausen
SUMMARY:Gottesdienst
X-ALT-DESC;FMTTYPE=text/html:mit Pfarrer i.R. Klaus Zimmermann<br /><br />V
 eranstaltungsort: <br />Evangelische Kirche Schatthausen<br />Kirchstr.15<
 br />69168 Wiesloch-Schatthausen<br /><br />Veranstalter: <br />Schatthaus
 en\, Evangelische Pfarrgemeinde<br />Kirchstraße 15 <br />69168 Wiesloch-S
 chatthausen<br />Telefon: 06222-70644 <br />Telefax: 06222-70280<br />http
 ://www.kirche-schatthausen.de
END:VEVENT
END:VCALENDAR
